BEGIN:VCALENDAR
VERSION:2.0
PRODID:-//OKAND - ECPv6.15.20//NONSGML v1.0//EN
CALSCALE:GREGORIAN
METHOD:PUBLISH
X-WR-CALNAME:OKAND
X-ORIGINAL-URL:https://eatrightoklahoma.org
X-WR-CALDESC:Events for OKAND
REFRESH-INTERVAL;VALUE=DURATION:PT1H
X-Robots-Tag:noindex
X-PUBLISHED-TTL:PT1H
BEGIN:VTIMEZONE
TZID:America/Chicago
BEGIN:DAYLIGHT
TZOFFSETFROM:-0600
TZOFFSETTO:-0500
TZNAME:CDT
DTSTART:20230312T080000
END:DAYLIGHT
BEGIN:STANDARD
TZOFFSETFROM:-0500
TZOFFSETTO:-0600
TZNAME:CST
DTSTART:20231105T070000
END:STANDARD
BEGIN:DAYLIGHT
TZOFFSETFROM:-0600
TZOFFSETTO:-0500
TZNAME:CDT
DTSTART:20240310T080000
END:DAYLIGHT
BEGIN:STANDARD
TZOFFSETFROM:-0500
TZOFFSETTO:-0600
TZNAME:CST
DTSTART:20241103T070000
END:STANDARD
BEGIN:DAYLIGHT
TZOFFSETFROM:-0600
TZOFFSETTO:-0500
TZNAME:CDT
DTSTART:20250309T080000
END:DAYLIGHT
BEGIN:STANDARD
TZOFFSETFROM:-0500
TZOFFSETTO:-0600
TZNAME:CST
DTSTART:20251102T070000
END:STANDARD
END:VTIMEZONE
BEGIN:VEVENT
DTSTART;TZID=America/Chicago:20240203T140000
DTEND;TZID=America/Chicago:20240203T160000
DTSTAMP:20260423T041017
CREATED:20240110T194612Z
LAST-MODIFIED:20240110T200234Z
UID:10000031-1706968800-1706976000@eatrightoklahoma.org
SUMMARY:Rock Painting for Rock the Vote!
DESCRIPTION:Come “rock the vote” with us and kickstart Heart Month! Free rock painting activity and kid-friendly event! \nBYO dessert potluck. Take time to vote for our next Academy leaders at this event. Voting runs Feb 1-15 so this is the perfect time to get your vote in. Oklahoma has a high voting turnout\, let’s keep our streak going! Rocks & supplies are provided\, but feel free to bring your own if preferred. \n  \nLocation Details \nOKC Creative Co-op \n3118 N. May Ave\, OKC \nEnter off May Avenue just north of 30th St. The building is behind Eley’s Foods and Bedford Camera. Look for a sign and/or balloon on the front door. \nPlease RSVP by February 1st
URL:https://eatrightoklahoma.org/event/rock-painting/
LOCATION:OKC Creative Co-op\, 3118 N. May Ave\, Oklahoma City\, OK\, 73112\, United States
CATEGORIES:Event
END:VEVENT
END:VCALENDAR